BEGIN:VCALENDAR
VERSION:2.0
PRODID:-//Rodéo d&#039;âme - ECPv6.15.11//NONSGML v1.0//EN
CALSCALE:GREGORIAN
METHOD:PUBLISH
X-WR-CALNAME:Rodéo d&#039;âme
X-ORIGINAL-URL:https://rodeodame.fr
X-WR-CALDESC:Évènements pour Rodéo d&#039;âme
REFRESH-INTERVAL;VALUE=DURATION:PT1H
X-Robots-Tag:noindex
X-PUBLISHED-TTL:PT1H
BEGIN:VTIMEZONE
TZID:UTC
BEGIN:STANDARD
TZOFFSETFROM:+0000
TZOFFSETTO:+0000
TZNAME:UTC
DTSTART:20240101T000000
END:STANDARD
END:VTIMEZONE
BEGIN:VEVENT
DTSTART;TZID=UTC:20250531T160000
DTEND;TZID=UTC:20250531T170000
DTSTAMP:20260423T191047
CREATED:20250521T080352Z
LAST-MODIFIED:20250521T080840Z
UID:37994-1748707200-1748710800@rodeodame.fr
SUMMARY:Vernissage & lecture dessinée La fille renarde
DESCRIPTION:Le Rallye du Livre fait son grand retour ! \nDu 2 au 21 juin\, les quatre vitrines de la librairie rue des Francs-Bourgeois se pareront ainsi des plus belles couleurs de notre dernière sortie : La fille renarde. Vous pourrez notamment y découvrir les planches originales du livre entièrement réalisées aux crayons de couleurs. Pour le vernissage\, une lecture dessinée et musicale est organisée le samedi 31 mai à 16h à la librairie Kléber\, tous les amateurs de cabanes et de grands arbres sont les bienvenus 🙂 \nLa rencontre sera suivi de dédicaces ainsi que d’un pot offert par la librairie. \nUn projet rendu possible grâce au soutien de la Ville de Strasbourg et de la Confédération Interprofessionnelle du Livre.
URL:https://rodeodame.fr/event/la-fille-renarde/
LOCATION:Librairie Kléber\, 1 Rue des Francs-Bourgeois\, Strasbourg\, 67000\, France
CATEGORIES:Exposition,Inauguration,Spectacle
ATTACH;FMTTYPE=image/jpeg:https://rodeodame.fr/wp-content/uploads/2025/05/493929582_1090012289828133_7137748678152374476_n.jpg
END:VEVENT
END:VCALENDAR