BEGIN:VCALENDAR
VERSION:2.0
PRODID:-//Rodéo d&#039;âme - ECPv6.15.11//NONSGML v1.0//EN
CALSCALE:GREGORIAN
METHOD:PUBLISH
X-WR-CALNAME:Rodéo d&#039;âme
X-ORIGINAL-URL:https://rodeodame.fr
X-WR-CALDESC:Évènements pour Rodéo d&#039;âme
REFRESH-INTERVAL;VALUE=DURATION:PT1H
X-Robots-Tag:noindex
X-PUBLISHED-TTL:PT1H
BEGIN:VTIMEZONE
TZID:UTC
BEGIN:STANDARD
TZOFFSETFROM:+0000
TZOFFSETTO:+0000
TZNAME:UTC
DTSTART:20240101T000000
END:STANDARD
END:VTIMEZONE
BEGIN:VEVENT
DTSTART;TZID=UTC:20250627T150000
DTEND;TZID=UTC:20250627T220000
DTSTAMP:20260423T202011
CREATED:20250521T083736Z
LAST-MODIFIED:20250521T083736Z
UID:38006-1751036400-1751061600@rodeodame.fr
SUMMARY:Kermesse du Quartier des Écrivains
DESCRIPTION:Dans le cadre de la nouvelle résidence que Rodéo d’âme démarre pour deux ans dans le Quartier des Écrivains à Schiltigheim et Bischheim d’avril 2025 à avril 2027\, une partie de l’équipe sera présente à la Kermesse du Quartier des Écrivains. L’occasion d’aller à la rencontre des habitants\, de faire connaissance\, de présenter le fameux « Bulli »\, un combi Volkswagen qui servira de lieux d’accueil mobile durant la résidence\, et de proposer des lectures d’albums jeunesses aux enfants du quartier !
URL:https://rodeodame.fr/event/kermesse-du-quartier-des-ecrivains/
LOCATION:Quartier des écrivains\, Schiltigheim/Bischheim\, France
CATEGORIES:Rencontre
ATTACH;FMTTYPE=image/png:https://rodeodame.fr/wp-content/uploads/2025/05/Instagram.png
END:VEVENT
END:VCALENDAR