BEGIN:VCALENDAR
VERSION:2.0
PRODID:-//Rodéo d&#039;âme - ECPv6.15.11//NONSGML v1.0//EN
CALSCALE:GREGORIAN
METHOD:PUBLISH
X-WR-CALNAME:Rodéo d&#039;âme
X-ORIGINAL-URL:https://rodeodame.fr
X-WR-CALDESC:Évènements pour Rodéo d&#039;âme
REFRESH-INTERVAL;VALUE=DURATION:PT1H
X-Robots-Tag:noindex
X-PUBLISHED-TTL:PT1H
BEGIN:VTIMEZONE
TZID:UTC
BEGIN:STANDARD
TZOFFSETFROM:+0000
TZOFFSETTO:+0000
TZNAME:UTC
DTSTART:20240101T000000
END:STANDARD
END:VTIMEZONE
BEGIN:VEVENT
DTSTART;TZID=UTC:20250407T180000
DTEND;TZID=UTC:20250407T190000
DTSTAMP:20260423T120814
CREATED:20250224T150512Z
LAST-MODIFIED:20250225T120647Z
UID:37823-1744048800-1744052400@rodeodame.fr
SUMMARY:Curieuse rencontre
DESCRIPTION:Rejoignez Claire Audhuy et Denis Duboule\, biologiste\, le 7 avril à 18h pour une conversation unique sur la « poésie du développement ». Les deux intervenants vous invitent à explorer cette curieuse thématique lors d’une rencontre originale dans le cadre du Curieux Festival\, qui se déroulera du 1er au 13 avril 2025. Ils explorent\, à travers leurs disciplines respectives\, la notion de contrainte et son impact sur la création artistique et le développement des êtres vivants\, en questionnant notre lien au vivant et les déracinements passés et présents. \nLes Curieuses Rencontres sont conçues pour construire un dialogue entre un scientifique et un artiste\, créant ainsi un moment d’échange enrichissant. \n L’événement est gratuit sur réservation.
URL:https://rodeodame.fr/event/curieuse-rencontre/
CATEGORIES:Rencontre
ATTACH;FMTTYPE=image/png:https://rodeodame.fr/wp-content/uploads/2025/02/Capture-decran-2025-02-25-a-13.04.24.png
END:VEVENT
BEGIN:VEVENT
DTSTART;VALUE=DATE:20250412
DTEND;VALUE=DATE:20250413
DTSTAMP:20260423T120814
CREATED:20250225T150926Z
LAST-MODIFIED:20250225T150943Z
UID:37828-1744416000-1744502399@rodeodame.fr
SUMMARY:Conférence & carte blanche poétique
DESCRIPTION:Le 12 avril 2025\, Claire Audhuy et Baris Ayhan vous donnent rendez-vous au Théâtre du Peuple à Bussang pour une carte blanche poétique et musicale autour du vivant. \nClaire Audhuy donnera également une conférence intitulée « Le théâtre clandestin dans les camps nazis ou la puissance de la fraternité »\, qui parlera entre-autres de la figure de Hanuš Hachenburg\, jeune poète tchèque déporté à Theresienstadt en 1942\, qui a clandestinement participé à la création d’une République imaginaire au nez et à la barbe des nazis\, et dont le mot d’ordre était « Chaque homme est mon frère ».
URL:https://rodeodame.fr/event/carte-blanche-poetique/
LOCATION:Théâtre Du Peuple\, 40 Rue du Théatre du Peuple\, Bussang\, 88540
CATEGORIES:Rencontre,Spectacle
ATTACH;FMTTYPE=image/png:https://rodeodame.fr/wp-content/uploads/2025/02/Capture-decran-2025-02-25-a-16.06.11.png
END:VEVENT
END:VCALENDAR