BEGIN:VCALENDAR
VERSION:2.0
PRODID:-//Rodéo d&#039;âme - ECPv6.15.11//NONSGML v1.0//EN
CALSCALE:GREGORIAN
METHOD:PUBLISH
X-ORIGINAL-URL:https://rodeodame.fr
X-WR-CALDESC:Évènements pour Rodéo d&#039;âme
REFRESH-INTERVAL;VALUE=DURATION:PT1H
X-Robots-Tag:noindex
X-PUBLISHED-TTL:PT1H
BEGIN:VTIMEZONE
TZID:UTC
BEGIN:STANDARD
TZOFFSETFROM:+0000
TZOFFSETTO:+0000
TZNAME:UTC
DTSTART:20240101T000000
END:STANDARD
END:VTIMEZONE
BEGIN:VEVENT
DTSTART;VALUE=DATE:20251122
DTEND;VALUE=DATE:20251124
DTSTAMP:20260423T041241
CREATED:20250920T141705Z
LAST-MODIFIED:20250920T141705Z
UID:38341-1763769600-1763942399@rodeodame.fr
SUMMARY:Rodéo d'âme à la Foire du livre de Colmar
DESCRIPTION:Les 22 & 23 novembre\, les éditions Rodéo d’âme seront présents sur le stand des éditeurs de la région Grand Est à la 36e édition de la Foire du livre de Colmar. \nL’occasion idéale pour découvrir nos dernières parutions et notamment l’album jeunesse La fille renarde que vous aurez l’occasion de faire dédicacer par son auteure Claire Audhuy… On s’y retrouve ?
URL:https://rodeodame.fr/event/rodeo-dame-a-la-foire-du-livre-de-colmar/
LOCATION:Parc des expositions\, Avenue de la Foire aux Vins\, Colmar\, 68000\, France
CATEGORIES:Salon du livre
ATTACH;FMTTYPE=image/jpeg:https://rodeodame.fr/wp-content/uploads/2025/09/Affiche-festival-du-livre-2025.jpg
END:VEVENT
END:VCALENDAR