BEGIN:VCALENDAR
VERSION:2.0
PRODID:-//Rodéo d&#039;âme - ECPv6.15.11//NONSGML v1.0//EN
CALSCALE:GREGORIAN
METHOD:PUBLISH
X-ORIGINAL-URL:https://rodeodame.fr
X-WR-CALDESC:Évènements pour Rodéo d&#039;âme
REFRESH-INTERVAL;VALUE=DURATION:PT1H
X-Robots-Tag:noindex
X-PUBLISHED-TTL:PT1H
BEGIN:VTIMEZONE
TZID:UTC
BEGIN:STANDARD
TZOFFSETFROM:+0000
TZOFFSETTO:+0000
TZNAME:UTC
DTSTART:20240101T000000
END:STANDARD
END:VTIMEZONE
BEGIN:VEVENT
DTSTART;TZID=UTC:20250524T140000
DTEND;TZID=UTC:20250524T180000
DTSTAMP:20260420T014348
CREATED:20250521T101951Z
LAST-MODIFIED:20250521T101951Z
UID:38022-1748095200-1748109600@rodeodame.fr
SUMMARY:Maxime Garcia à “Faites des bulles”
DESCRIPTION:Maxime Garcia passera par le festival de BD et de littérature illustrée “Faites des bulles” au Pôle Culturel et Sportif du Bois Fleuri à Lormont le samedi 24 mai entre 14h et 18h. Le moment idéal pour le rencontrer et repartir avec une dédicace colorée de son tout dernier album jeunesse : La fille renarde !
URL:https://rodeodame.fr/event/maxime-garcia-a-faites-des-bulles/
LOCATION:Pôle Culturel et Sportif du Bois Fleuri\, 60 Rue Lavergne\, Lormont\, 33310\, France
CATEGORIES:Salon du livre
ATTACH;FMTTYPE=image/png:https://rodeodame.fr/wp-content/uploads/2025/05/Capture-decran-2025-05-21-a-11.59.16.png
END:VEVENT
END:VCALENDAR