BEGIN:VCALENDAR
VERSION:2.0
PRODID:-//Rodéo d&#039;âme - ECPv6.15.11//NONSGML v1.0//EN
CALSCALE:GREGORIAN
METHOD:PUBLISH
X-ORIGINAL-URL:https://rodeodame.fr
X-WR-CALDESC:Évènements pour Rodéo d&#039;âme
REFRESH-INTERVAL;VALUE=DURATION:PT1H
X-Robots-Tag:noindex
X-PUBLISHED-TTL:PT1H
BEGIN:VTIMEZONE
TZID:UTC
BEGIN:STANDARD
TZOFFSETFROM:+0000
TZOFFSETTO:+0000
TZNAME:UTC
DTSTART:20230101T000000
END:STANDARD
END:VTIMEZONE
BEGIN:VEVENT
DTSTART;TZID=UTC:20241122T190000
DTEND;TZID=UTC:20241122T220000
DTSTAMP:20260423T103613
CREATED:20241122T145722Z
LAST-MODIFIED:20241122T145722Z
UID:37463-1732302000-1732312800@rodeodame.fr
SUMMARY:Ouverture de résidence
DESCRIPTION:Ce vendredi 22 novembre à 2024 à 19h\, la résidence de Baptiste Cogitore à la Turmelière s’ouvre officiellement ! \nLa soirée\, organisée en partenariat avec la Maison Julien Gracq\, permettra de présenter à la fois la résidence et les deux auteurs qui y passeront les prochains mois : Baptiste Cogitore d’un côté\, et à la journaliste Cécile Massin de l’autre. \nUne belle soirée en perspective !
URL:https://rodeodame.fr/event/ouverture-de-residence/
LOCATION:Château de la Turmelière\, Liré\, 49530
CATEGORIES:Inauguration,Rencontre
ATTACH;FMTTYPE=image/jpeg:https://rodeodame.fr/wp-content/uploads/2024/05/Turmeliere.jpeg
END:VEVENT
END:VCALENDAR