BEGIN:VCALENDAR
VERSION:2.0
PRODID:-//Rodéo d&#039;âme - ECPv6.15.11//NONSGML v1.0//EN
CALSCALE:GREGORIAN
METHOD:PUBLISH
X-WR-CALNAME:Rodéo d&#039;âme
X-ORIGINAL-URL:https://rodeodame.fr
X-WR-CALDESC:Évènements pour Rodéo d&#039;âme
REFRESH-INTERVAL;VALUE=DURATION:PT1H
X-Robots-Tag:noindex
X-PUBLISHED-TTL:PT1H
BEGIN:VTIMEZONE
TZID:UTC
BEGIN:STANDARD
TZOFFSETFROM:+0000
TZOFFSETTO:+0000
TZNAME:UTC
DTSTART:20240101T000000
END:STANDARD
END:VTIMEZONE
BEGIN:VEVENT
DTSTART;TZID=UTC:20250425T180000
DTEND;TZID=UTC:20250425T193000
DTSTAMP:20260423T202119
CREATED:20250214T121311Z
LAST-MODIFIED:20250321T140237Z
UID:37793-1745604000-1745609400@rodeodame.fr
SUMMARY:Sortie - L'enfant comète
DESCRIPTION:Nous vous invitons à célébrer la sortie du livre\, L’enfant comète\, à nos côtés\, lors d’une rencontre à la librairie Kléber\, suivie d’une lecture de poèmes inédits de Hanuš Hachenburg par Claire Audhuy\, accompagnée de Tristan Lescêne au violoncelle\, le 25 avril à partir de 18h. \nIl s’agit d’une biographie poétique de  Hanuš Hachenburg\, membre de la « République de ŠKID »\, une république imaginaire poétique et révolutionnaire qui a existé de décembre 1942 à septembre 1944 dans le ghetto de Theresienstadt\, au nez et à la barbe des nazis. Ce « roman sans fiction » a pour but de nous faire découvrir cette vie minuscule et pourtant si riche de l’oeuvre formidable de maturité et de lucidité qu’elle nous laisse. \n  \n 
URL:https://rodeodame.fr/event/sortie-lenfant-comete/
LOCATION:Librairie Kléber\, 1 Rue des Francs-Bourgeois\, Strasbourg\, 67000\, France
CATEGORIES:Rencontre
ATTACH;FMTTYPE=image/jpeg:https://rodeodame.fr/wp-content/uploads/2024/12/baptiste-cogitore-journaliste-reporter-de-formation-nous-sommes-en-2054-a-quoi-ressemble-votre-environnement-de-quoi-parle-t-on-autour-de-vous-photo-elisabeth-roger-1728897208.jpg
END:VEVENT
END:VCALENDAR