BEGIN:VCALENDAR
VERSION:2.0
PRODID:-//Rodéo d&#039;âme - ECPv6.15.11//NONSGML v1.0//EN
CALSCALE:GREGORIAN
METHOD:PUBLISH
X-WR-CALNAME:Rodéo d&#039;âme
X-ORIGINAL-URL:https://rodeodame.fr
X-WR-CALDESC:Évènements pour Rodéo d&#039;âme
REFRESH-INTERVAL;VALUE=DURATION:PT1H
X-Robots-Tag:noindex
X-PUBLISHED-TTL:PT1H
BEGIN:VTIMEZONE
TZID:UTC
BEGIN:STANDARD
TZOFFSETFROM:+0000
TZOFFSETTO:+0000
TZNAME:UTC
DTSTART:20240101T000000
END:STANDARD
END:VTIMEZONE
BEGIN:VEVENT
DTSTART;TZID=UTC:20250611T143000
DTEND;TZID=UTC:20250611T170000
DTSTAMP:20260423T120533
CREATED:20250521T081451Z
LAST-MODIFIED:20250521T081451Z
UID:37998-1749652200-1749661200@rodeodame.fr
SUMMARY:Pas de chips au paradis
DESCRIPTION:Le 11 juin\, Claire Audhuy et Julien Grayer se rendront à la SAS de Colmar pour proposer leur spectacle « Pas de chips au paradis » à des détenus en voie de réinsertion.
URL:https://rodeodame.fr/event/pas-de-chips-au-paradis/
LOCATION:Structure d’Accompagnement vers la Sortie\, 28 Rue d'Agen\, Colmar\, 68000\, France
CATEGORIES:Spectacle
ATTACH;FMTTYPE=image/jpeg:https://rodeodame.fr/wp-content/uploads/2020/06/IMG_6101-scaled.jpg
END:VEVENT
END:VCALENDAR