BEGIN:VCALENDAR
VERSION:2.0
PRODID:-//Rodéo d&#039;âme - ECPv6.15.11//NONSGML v1.0//EN
CALSCALE:GREGORIAN
METHOD:PUBLISH
X-ORIGINAL-URL:https://rodeodame.fr
X-WR-CALDESC:Évènements pour Rodéo d&#039;âme
REFRESH-INTERVAL;VALUE=DURATION:PT1H
X-Robots-Tag:noindex
X-PUBLISHED-TTL:PT1H
BEGIN:VTIMEZONE
TZID:UTC
BEGIN:STANDARD
TZOFFSETFROM:+0000
TZOFFSETTO:+0000
TZNAME:UTC
DTSTART:20240101T000000
END:STANDARD
END:VTIMEZONE
BEGIN:VEVENT
DTSTART;TZID=UTC:20250606T200000
DTEND;TZID=UTC:20250606T220000
DTSTAMP:20260422T120916
CREATED:20250214T120824Z
LAST-MODIFIED:20250416T041338Z
UID:37787-1749240000-1749247200@rodeodame.fr
SUMMARY:Soirée autour de H. Hachenburg
DESCRIPTION:« L’enfant comète » est un récit biographique de Baptiste Cogitore consacré à Hanuš Hachenburg. Jeune poète tchèque\, il est interné au camp de concentration de Theresienstadt en 1942 à l’âge de 13 ans. Il y écrit des oeuvres marquantes\, mises au jour par Baptiste Cogitore et Claire Audhuy (Rodéo d’âme) en 2015.\n\n\nLe livre « L’enfant comète » a été partiellement écrit à Muttersholtz en 2020/2021 dans le cadre d’une résidence d’écriture. Il sort en avril 2025 dans une co-édition PLON/Rodéo d’âme.\n\n\nCette soirée permettra de rencontrer l’auteur et de découvrir des lectures musicales autour des oeuvres de Hanuš Hachenburg avec le spectacle musical « Le Coeur est un feu ».\n\n\n(Textes : Hanuš Hachenburg / Voix : Claire Audhuy / Violoncelle : Tristan Lescêne)\n\n\nEntrée libre\, plateau\, librairie éphémère sur place
URL:https://rodeodame.fr/event/soiree-autour-de-hanus-hachenburg/
LOCATION:Les Synergies\, 4 Rue des Tilleuls\, Muutersholtz\, 67600\, France
CATEGORIES:Rencontre,Spectacle
ATTACH;FMTTYPE=image/jpeg:https://rodeodame.fr/wp-content/uploads/2024/12/baptiste-cogitore-journaliste-reporter-de-formation-nous-sommes-en-2054-a-quoi-ressemble-votre-environnement-de-quoi-parle-t-on-autour-de-vous-photo-elisabeth-roger-1728897208.jpg
END:VEVENT
END:VCALENDAR