BEGIN:VCALENDAR
VERSION:2.0
PRODID:-//Rodéo d&#039;âme - ECPv6.15.11//NONSGML v1.0//EN
CALSCALE:GREGORIAN
METHOD:PUBLISH
X-WR-CALNAME:Rodéo d&#039;âme
X-ORIGINAL-URL:https://rodeodame.fr
X-WR-CALDESC:Évènements pour Rodéo d&#039;âme
REFRESH-INTERVAL;VALUE=DURATION:PT1H
X-Robots-Tag:noindex
X-PUBLISHED-TTL:PT1H
BEGIN:VTIMEZONE
TZID:UTC
BEGIN:STANDARD
TZOFFSETFROM:+0000
TZOFFSETTO:+0000
TZNAME:UTC
DTSTART:20240101T000000
END:STANDARD
END:VTIMEZONE
BEGIN:VEVENT
DTSTART;TZID=UTC:20250117T190000
DTEND;TZID=UTC:20250117T220000
DTSTAMP:20260422T183437
CREATED:20241210T114959Z
LAST-MODIFIED:20241210T115123Z
UID:37544-1737140400-1737151200@rodeodame.fr
SUMMARY:Rencontre librairie Ryst
DESCRIPTION:Le 17 janvier 2025 à 19h\, Claire Audhuy sera à la librairie Ryst à Cherbourg (50) en compagnie de l’écrivain et poète Emmanuel Rabu. Ensemble\, ils proposeront une lecture-rencontre autour de leurs ouvrages et leurs univers. \nUn joli rendez-vous organisé dans le cadre de la résidence « Les poètes n’hibernent pas » mis en place avec la Maison de la Poésie et de l’Oralité de Rouen\, la Lieutenance à Honfleur\, l’IMEC à Caen\, la Péninsule à Cherbourg et la Maison de la Poésie des Hauts-de-France.
URL:https://rodeodame.fr/event/rencontre-libraire-ryst/
LOCATION:Librairie Ryst\, 16\, Grande rue\, Cherbourg-en-Cotentin\, 50100\, France
CATEGORIES:Rencontre
ATTACH;FMTTYPE=image/png:https://rodeodame.fr/wp-content/uploads/2024/12/Capture-decran-2024-12-10-a-11.47.36.png
END:VEVENT
END:VCALENDAR